BEGIN:VCALENDAR
VERSION:2.0
PRODID:-//Gymea Bay Cricket Club - ECPv6.15.20//NONSGML v1.0//EN
CALSCALE:GREGORIAN
METHOD:PUBLISH
X-ORIGINAL-URL:https://gymeabaycricketclub.com
X-WR-CALDESC:Events for Gymea Bay Cricket Club
REFRESH-INTERVAL;VALUE=DURATION:PT1H
X-Robots-Tag:noindex
X-PUBLISHED-TTL:PT1H
BEGIN:VTIMEZONE
TZID:Australia/Sydney
BEGIN:STANDARD
TZOFFSETFROM:+1100
TZOFFSETTO:+1000
TZNAME:AEST
DTSTART:20240406T160000
END:STANDARD
BEGIN:DAYLIGHT
TZOFFSETFROM:+1000
TZOFFSETTO:+1100
TZNAME:AEDT
DTSTART:20241005T160000
END:DAYLIGHT
BEGIN:STANDARD
TZOFFSETFROM:+1100
TZOFFSETTO:+1000
TZNAME:AEST
DTSTART:20250405T160000
END:STANDARD
BEGIN:DAYLIGHT
TZOFFSETFROM:+1000
TZOFFSETTO:+1100
TZNAME:AEDT
DTSTART:20251004T160000
END:DAYLIGHT
BEGIN:STANDARD
TZOFFSETFROM:+1100
TZOFFSETTO:+1000
TZNAME:AEST
DTSTART:20260404T160000
END:STANDARD
BEGIN:DAYLIGHT
TZOFFSETFROM:+1000
TZOFFSETTO:+1100
TZNAME:AEDT
DTSTART:20261003T160000
END:DAYLIGHT
END:VTIMEZONE
BEGIN:VEVENT
DTSTART;TZID=Australia/Sydney:20250912T173000
DTEND;TZID=Australia/Sydney:20250912T183000
DTSTAMP:20260420T195456
CREATED:20250629T054401Z
LAST-MODIFIED:20250629T054401Z
UID:3373-1757698200-1757701800@gymeabaycricketclub.com
SUMMARY:Final Uniform Collection
DESCRIPTION:Season starts 13 September! Make sure to collect your apparel and merchandise before the first round
URL:https://gymeabaycricketclub.com/event/final-uniform-collection/
LOCATION:Gymea Bay Oval
END:VEVENT
BEGIN:VEVENT
DTSTART;VALUE=DATE:20250908
DTEND;VALUE=DATE:20250909
DTSTAMP:20260420T195456
CREATED:20250826T070225Z
LAST-MODIFIED:20250826T070225Z
UID:3490-1757289600-1757375999@gymeabaycricketclub.com
SUMMARY:SSJCA Coaches Meeting
DESCRIPTION:Time and venue TBC
URL:https://gymeabaycricketclub.com/event/ssjca-coaches-meeting/
END:VEVENT
BEGIN:VEVENT
DTSTART;TZID=Australia/Sydney:20250906T000000
DTEND;TZID=Australia/Sydney:20250906T000000
DTSTAMP:20260420T195456
CREATED:20250629T052106Z
LAST-MODIFIED:20250629T055017Z
UID:3371-1757116800-1757116800@gymeabaycricketclub.com
SUMMARY:Coach & Manager Briefing
DESCRIPTION:Coaches and managers to attend a briefing\, collect team kits and game day apparel. Time TBC
URL:https://gymeabaycricketclub.com/event/coach-manager-briefing/
LOCATION:Gymea Bay Oval
CATEGORIES:Junior Cricket
END:VEVENT
BEGIN:VEVENT
DTSTART;TZID=Australia/Sydney:20250905T163000
DTEND;TZID=Australia/Sydney:20250905T183000
DTSTAMP:20260420T195456
CREATED:20250629T051720Z
LAST-MODIFIED:20250629T220713Z
UID:3367-1757089800-1757097000@gymeabaycricketclub.com
SUMMARY:Uniform Collection
DESCRIPTION:Players participating in Junior Cricket and Senior Cricket are to come along to grab your free short sleeve playing shirt for season 2025/26! Head to shop.gymeabaycricketclub.com to purchase additional apparel and merchandise.
URL:https://gymeabaycricketclub.com/event/uniform-collection-1/
LOCATION:Gymea Bay Oval
END:VEVENT
BEGIN:VEVENT
DTSTART;TZID=Australia/Sydney:20250905T163000
DTEND;TZID=Australia/Sydney:20250905T183000
DTSTAMP:20260420T195456
CREATED:20250629T051041Z
LAST-MODIFIED:20250629T055031Z
UID:3361-1757089800-1757097000@gymeabaycricketclub.com
SUMMARY:Media Day
DESCRIPTION:All players participating in Junior Cricket\, Girls Cricket and Senior Cricket to come along to Gymea Bay Oval to get your headshots done for season 2025/26
URL:https://gymeabaycricketclub.com/event/media-day/
LOCATION:Gymea Bay Oval
CATEGORIES:Junior Cricket,Senior Cricket
END:VEVENT
BEGIN:VEVENT
DTSTART;TZID=Australia/Sydney:20250904T193000
DTEND;TZID=Australia/Sydney:20250904T210000
DTSTAMP:20260420T195456
CREATED:20250826T065926Z
LAST-MODIFIED:20250829T045916Z
UID:3488-1757014200-1757019600@gymeabaycricketclub.com
SUMMARY:Coaches Kit Distribution & GBCC Season Briefing
DESCRIPTION:7.30 -9.00PM at the Community Hall
URL:https://gymeabaycricketclub.com/event/coaches-kit-distribution-gbcc-season-briefing/
LOCATION:Gymea Bay Community Hall\, Gymea Bay Oval\, Gymea Bay
END:VEVENT
BEGIN:VEVENT
DTSTART;VALUE=DATE:20250904
DTEND;VALUE=DATE:20250905
DTSTAMP:20260420T195456
CREATED:20250826T065648Z
LAST-MODIFIED:20250907T032407Z
UID:3486-1756944000-1757030399@gymeabaycricketclub.com
SUMMARY:Grading finalised and teams published
DESCRIPTION:Gymea Bay Cricket Club is pleased to announce our junior teams for the 2025/26 season! \nThanks to all the parents and volunteers who have been involved in helping us to smoothly navigate through registrations and grading. \nAll the best for the year ahead! \nJunior Teams – Gymea Bay Cricket Club
URL:https://gymeabaycricketclub.com/event/grading-finalised-and-teams-published/
END:VEVENT
BEGIN:VEVENT
DTSTART;VALUE=DATE:20250831
DTEND;VALUE=DATE:20250901
DTSTAMP:20260420T195456
CREATED:20250826T065512Z
LAST-MODIFIED:20250826T065512Z
UID:3484-1756598400-1756684799@gymeabaycricketclub.com
SUMMARY:Team lists finalised with SSJCA
DESCRIPTION:
URL:https://gymeabaycricketclub.com/event/team-lists-finalised-with-ssjca/
END:VEVENT
BEGIN:VEVENT
DTSTART;TZID=Australia/Sydney:20250824T083000
DTEND;TZID=Australia/Sydney:20250824T153000
DTSTAMP:20260420T195456
CREATED:20250809T234731Z
LAST-MODIFIED:20250818T073212Z
UID:3458-1756024200-1756049400@gymeabaycricketclub.com
SUMMARY:Junior Grading - Day 2
DESCRIPTION:Trials for our Junior Cricket teams. Excludes Girls Cricket and Cricket Blast Competition. \nThe grading trial times are: \n\nU16: 8:30am – 10.00am\nU14: 10.30am – 12.00pm\nU12: 12.30pm – 2.00pm\nU10: 2.30pm – 3.30pm\n\nSee social media for latest updates.
URL:https://gymeabaycricketclub.com/event/junior-grading-day-2/
LOCATION:Gymea Bay Oval
CATEGORIES:Junior Cricket
END:VEVENT
BEGIN:VEVENT
DTSTART;TZID=Australia/Sydney:20250817T083000
DTEND;TZID=Australia/Sydney:20250817T153000
DTSTAMP:20260420T195456
CREATED:20250629T054719Z
LAST-MODIFIED:20250809T234601Z
UID:3375-1755419400-1755444600@gymeabaycricketclub.com
SUMMARY:Junior Grading - Day 1
DESCRIPTION:Trials for our Junior Cricket teams. Excludes Girls Cricket and Cricket Blast Competition. \n 
URL:https://gymeabaycricketclub.com/event/junior-trials-1/
LOCATION:Gymea Bay Oval
CATEGORIES:Junior Cricket
END:VEVENT
BEGIN:VEVENT
DTSTART;TZID=Australia/Sydney:20250810T083000
DTEND;TZID=Australia/Sydney:20250810T153000
DTSTAMP:20260420T195456
CREATED:20250806T091123Z
LAST-MODIFIED:20250809T234832Z
UID:3441-1754814600-1754839800@gymeabaycricketclub.com
SUMMARY:Junior Grading - Postponed due to wet weather.
DESCRIPTION:Trials for our Junior Cricket teams. Excludes Girls Cricket and Cricket Blast Competition.
URL:https://gymeabaycricketclub.com/event/junior-grading-day-1/
LOCATION:Gymea Bay Oval
CATEGORIES:Junior Cricket
END:VEVENT
BEGIN:VEVENT
DTSTART;TZID=Australia/Sydney:20250803T103000
DTEND;TZID=Australia/Sydney:20250803T113000
DTSTAMP:20260420T195456
CREATED:20250729T041616Z
LAST-MODIFIED:20250729T041646Z
UID:3435-1754217000-1754220600@gymeabaycricketclub.com
SUMMARY:Come & Try Day
DESCRIPTION:Child thinking of playing cricket? Come down to the Kevin McGrath Training Facility at Gymea Bay Oval\, 10:30am-11:30am\, 3 August for a taste.\n\n\n\nGreat for those who have played Cricket Blast and thinking of signing up to Junior Cricket or anyone else who wants to put the pads on and have a go!\n\n\n\nCoaches and committee members will be on hand to coach the kids and answer any questions parents may have – no equipment or experience needed.\n\n\n\nExisting players are welcome to come down for a training session as well.
URL:https://gymeabaycricketclub.com/event/come-try-day/
LOCATION:Gymea Bay Oval
CATEGORIES:Junior Cricket
END:VEVENT
BEGIN:VEVENT
DTSTART;TZID=Australia/Sydney:20250521T194500
DTEND;TZID=Australia/Sydney:20250521T220000
DTSTAMP:20260420T195456
CREATED:20250428T062724Z
LAST-MODIFIED:20250428T062724Z
UID:3305-1747856700-1747864800@gymeabaycricketclub.com
SUMMARY:Annual General Meeting
DESCRIPTION:Constitution & Committee Nomination Form
URL:https://gymeabaycricketclub.com/event/annual-general-meeting/
LOCATION:Gymea Bay Community Hall\, Gymea Bay Oval\, Gymea Bay
END:VEVENT
BEGIN:VEVENT
DTSTART;TZID=Australia/Sydney:20250504T120000
DTEND;TZID=Australia/Sydney:20250504T170000
DTSTAMP:20260420T195456
CREATED:20241129T032125Z
LAST-MODIFIED:20250430T081516Z
UID:3285-1746360000-1746378000@gymeabaycricketclub.com
SUMMARY:Junior Presentation
DESCRIPTION:Updated Presentation Schedule: \nCricket Blast Teams\, U10 & Stage 1 Girls\n2:30pm-3:15pm \nU12 & Stage 2 Girls\n4:00pm-4:30pm \nU14 & U16\n1:00pm-1:30pm
URL:https://gymeabaycricketclub.com/event/junior-presentation/
LOCATION:Taren Point Bowling Club\, 203 Holt Rd\, Taren Point\, NSW\, 2229\, Australia
END:VEVENT
END:VCALENDAR